BEGIN:VCALENDAR
VERSION:2.0
PRODID:-//Potes i Arrels - ECPv6.15.17.1//NONSGML v1.0//EN
CALSCALE:GREGORIAN
METHOD:PUBLISH
X-WR-CALNAME:Potes i Arrels
X-ORIGINAL-URL:https://potesiarrels.es
X-WR-CALDESC:Eventos para Potes i Arrels
REFRESH-INTERVAL;VALUE=DURATION:PT1H
X-Robots-Tag:noindex
X-PUBLISHED-TTL:PT1H
BEGIN:VTIMEZONE
TZID:UTC
BEGIN:STANDARD
TZOFFSETFROM:+0000
TZOFFSETTO:+0000
TZNAME:UTC
DTSTART:20240101T000000
END:STANDARD
END:VTIMEZONE
BEGIN:VEVENT
DTSTART;VALUE=DATE:20251019
DTEND;VALUE=DATE:20251020
DTSTAMP:20260419T133024
CREATED:20250924T191314Z
LAST-MODIFIED:20250924T191408Z
UID:7206-1760832000-1760918399@potesiarrels.es
SUMMARY:The-Monkiki Rural Cómic
DESCRIPTION:The-Monkiki Rural Cómic es un proyecto que nace de dos mente inquietas Fran J. Monleón\,y Xelo Cascant en colaboración de la asociación  ASADE y con el apoyo de Jordi Vila Vila Alcalde de El Palomar. \nThe-Monkiki Rural Cómic: Una aventura épica por los pueblos de la Comunidad Valenciana \n¡Prepárate para una experiencia única que fusiona la magia del cómic\, la pasión por la cultura geek y el ocio alternativo! The-Monkiki Rural Comic te invita a un viaje inolvidable por los encantadores pueblos de la Comunidad Valenciana. \n\nSumérgete en el universo del cómic: Descubre las últimas novedades\, conoce a tus autores favoritos y participa en talleres creativos.\nCelebra la cultura geek: Disfruta de concursos de cosplay\, torneos de videojuegos\, juegos de mesa y mucho más.\nExplora el ocio alternativo: Déjate sorprender por actividades originales\, espectáculos en vivo y experiencias que te harán vibrar.\n\nThe-Monkiki Rural Comic es mucho más que un evento\, es una celebración de la creatividad\, la imaginación y la diversión. ¡No te lo pierdas! \n¿Quieres saber dónde será la próxima parada? \nConsulta nuestro mapa interactivo en  THE-MONKIKI RURAL CÓMIC MAPA para descubrir las fechas y ubicaciones de nuestros próximos eventos. ¡Y si tienes alguna pregunta o quieres contactar con nosotros\, escríbenos a info@the-monkiki.es o síguenos en nuestras redes sociales.
URL:https://potesiarrels.es/event/the-monkiki-rural-comic/
LOCATION:Centro cultural El Palomar\, Carrer Sant Domènech 29\, El Palomar\,\, Valencia\, 46891\, Spain
ATTACH;FMTTYPE=image/webp:https://potesiarrels.es/wp-content/uploads/2025/09/The-monkiki-rural-comic-scaled.webp
ORGANIZER;CN="The-Monkiki":MAILTO:info@the-monkiki.es
END:VEVENT
BEGIN:VEVENT
DTSTART;TZID=UTC:20251025T080000
DTEND;TZID=UTC:20251025T200000
DTSTAMP:20260419T133024
CREATED:20251021T175059Z
LAST-MODIFIED:20251021T175234Z
UID:7214-1761379200-1761422400@potesiarrels.es
SUMMARY:Bigotes de Esperanza Tienda Animal
DESCRIPTION:¡BIGOTES DE ESPERANZA! \nUn Día de Adopción y Abundancia para Nuestros Amigos Felinos \nDetalles del Evento: \n ¡Adopta a tu nuevo mejor amigo!\nConoce a gatitos adorables buscando un hogar lleno de amor. \n Ayúdanos a llenar pancitas:\nDona alimentos para gatos\, arena\, juguetes y mantas para refugios locales. \n Selfies Gatunos:\nDiviértete en nuestro rincón de fotos y comparte tu amor felino. \n Talleres y más sorpresas:\nActividades para toda la familia. \n¡Tu visita y generosidad hacen la diferencia!
URL:https://potesiarrels.es/event/bigotes-de-esperanza-tienda-animal/
LOCATION:TIENDA ANIMAL\, Avinguda de l'Altet\, 2\,\, Cocentaina\, Alicante\, 03820\, Spain
ATTACH;FMTTYPE=image/jpeg:https://potesiarrels.es/wp-content/uploads/2025/09/Bigotes-de-Esperanza.jpg
END:VEVENT
BEGIN:VEVENT
DTSTART;TZID=UTC:20251026T100000
DTEND;TZID=UTC:20251026T123000
DTSTAMP:20260419T133024
CREATED:20251021T180702Z
LAST-MODIFIED:20251021T181546Z
UID:7216-1761472800-1761481800@potesiarrels.es
SUMMARY:Mercado Solidario de 2º Mano
DESCRIPTION:El diumenge 26 d’octubre\, Gaianes es torna a trobar per reutilitzar\, transformar i construir comunitat 🌿 \nGràcies al Consorci Terra i a l’Ajuntament de Gaianes\, tindrem:\nMercat de Segona Mà (10–12 h) – intercanvi i donació\nTaller de sabó amb oli usat – porta 1L d’oli + envàs de bricks\nReunió oberta (12:30 h) – per organitzar el voluntariat del compostador i el futur del mercat \nInscripció prèvia per taula: 605 978 361\nBar de la Piscina\, Gaianes \nUna jornada per allargar la vida de les coses… i fortalir els vincles entre veïns.
URL:https://potesiarrels.es/event/mercado-solidario-de-2o-mano/
LOCATION:Bar de la Piscina\, Gaianes\, Carrer Mare de Déu de la Llum 55\, Gaianes\, ALICANTE\, 03840\, Spain
ATTACH;FMTTYPE=image/jpeg:https://potesiarrels.es/wp-content/uploads/2025/10/Consorci-Terra-i-a-lAjuntament-de-Gaianes.jpg
END:VEVENT
END:VCALENDAR