BEGIN:VCALENDAR
VERSION:2.0
PRODID:-//Potes i Arrels - ECPv6.15.17.1//NONSGML v1.0//EN
CALSCALE:GREGORIAN
METHOD:PUBLISH
X-WR-CALNAME:Potes i Arrels
X-ORIGINAL-URL:https://potesiarrels.es
X-WR-CALDESC:Eventos para Potes i Arrels
REFRESH-INTERVAL;VALUE=DURATION:PT1H
X-Robots-Tag:noindex
X-PUBLISHED-TTL:PT1H
BEGIN:VTIMEZONE
TZID:UTC
BEGIN:STANDARD
TZOFFSETFROM:+0000
TZOFFSETTO:+0000
TZNAME:UTC
DTSTART:20240101T000000
END:STANDARD
END:VTIMEZONE
BEGIN:VEVENT
DTSTART;TZID=UTC:20251129T103000
DTEND;TZID=UTC:20251129T143000
DTSTAMP:20260419T133100
CREATED:20251106T195123Z
LAST-MODIFIED:20251120T220236Z
UID:7273-1764412200-1764426600@potesiarrels.es
SUMMARY:Bigotes de Esperanza Tienda Animal 2º edición
DESCRIPTION:¡BIGOTES DE ESPERANZA! \nUn Día de Adopción y Abundancia para Nuestros Amigos Felinos \n ¡Adopta a tu nuevo mejor amigo!\nConoce a gatitos adorables buscando un hogar lleno de amor. \n Ayúdanos a llenar pancitas:\nDona alimentos para gatos\, arena\, juguetes y mantas para refugios locales. \n Selfies Gatunos:\nDiviértete en nuestro rincón de fotos y comparte tu amor felino. \n Talleres y más sorpresas:\nActividades para toda la familia. \n¡Tu visita y generosidad hacen la diferencia!
URL:https://potesiarrels.es/event/bigotes-de-esperanza-tienda-animal-2o-edicion/
LOCATION:TIENDA ANIMAL\, Avinguda de l'Altet\, 2\,\, Cocentaina\, Alicante\, 03820\, Spain
ATTACH;FMTTYPE=image/jpeg:https://potesiarrels.es/wp-content/uploads/2025/09/Bigotes-de-Esperanza.jpg
END:VEVENT
BEGIN:VEVENT
DTSTART;TZID=UTC:20251129T163000
DTEND;TZID=UTC:20251129T220000
DTSTAMP:20260419T133100
CREATED:20251120T231539Z
LAST-MODIFIED:20251120T231539Z
UID:7300-1764433800-1764453600@potesiarrels.es
SUMMARY:¡Presentación del Calendario Potes i Arrels 2026!
DESCRIPTION:🎉🐾 ¡Presentación del Calendario Potes i Arrels 2026! 🐾🎉\n\n\n \n\n\nEste año venimos con un eventazo que no te puedes perder.\n\n\n📅 Fecha: 29 de Noviembre a partir de las 16:30\n\n\n📍 Lugar: Bar El Del Mig\n\n\n \n\n\nTe esperamos para descubrir juntos el nuevo calendario solidario 2026 de Potes i Arrels\, acompañado de una tarde llena de actividades y buen ambiente:\n\n\n \n\n\n✨ Presentación oficial del calendario\n\n\n🛍️ Mercadillo solidario con artículos solidarios y cositas especiales\n\n\n🎨 El gran @rafikigraphic estará dibujando caricaturas… ¡y también ofreciendo una lectura de tarot para quien se atreva!\n\n\n🍢 Picaeta casera hecha con cariño\n\n\n🍹 Barra solidaria para colaborar mientras disfrutas\n\n\n🎶 Música en directo para cerrar la jornada con buen rollo\n\n\n \n\n\n💚 Y por supuesto… ¡los peludos están más que permitidos! Tráete a tu mejor amigo de cuatro patas y vive una tarde solidaria\, divertida y en familia.\n\n\n \n\n\nVen\, colabora y ayuda a seguir cuidando de tantos animales que lo necesitan.\n\n\n🐶🐱 ¡Te esperamos!
URL:https://potesiarrels.es/event/presentacion-del-calendario-potes-i-arrels-2026/
LOCATION:El del Mig\, Plaça matzem n°2\, Muro del ALcoy\, ALICANTE\, 03830\, Spain
ATTACH;FMTTYPE=image/png:https://potesiarrels.es/wp-content/uploads/2025/11/Presentacion-oficial-del-calendario.png
END:VEVENT
END:VCALENDAR