BEGIN:VCALENDAR
VERSION:2.0
PRODID:-//Potes i Arrels - ECPv6.15.17.1//NONSGML v1.0//EN
CALSCALE:GREGORIAN
METHOD:PUBLISH
X-ORIGINAL-URL:https://potesiarrels.es
X-WR-CALDESC:Eventos para Potes i Arrels
REFRESH-INTERVAL;VALUE=DURATION:PT1H
X-Robots-Tag:noindex
X-PUBLISHED-TTL:PT1H
BEGIN:VTIMEZONE
TZID:UTC
BEGIN:STANDARD
TZOFFSETFROM:+0000
TZOFFSETTO:+0000
TZNAME:UTC
DTSTART:20240101T000000
END:STANDARD
END:VTIMEZONE
BEGIN:VEVENT
DTSTART;TZID=UTC:20251115T103000
DTEND;TZID=UTC:20251115T200000
DTSTAMP:20260419T133410
CREATED:20251106T200618Z
LAST-MODIFIED:20251106T200619Z
UID:7275-1763202600-1763236800@potesiarrels.es
SUMMARY:1º Feria Animalista Manises
DESCRIPTION:1º Feria Animalista Manises \nMúsica en directo\, 29 stands de asociaciones\, muchos productos para colaboras\, talleres infantiles todo el día\, un mini agility para los perretes\, un súper sorteo\, charlas\, retratos personalizados al momento\, perros en adopción y mucho más .
URL:https://potesiarrels.es/event/1o-feria-animalista-manises/
LOCATION:PLAZA RAFAEL ATARD\, PLAZA RAFAEL ATARD\, Manises\, Spain
ATTACH;FMTTYPE=image/webp:https://potesiarrels.es/wp-content/uploads/2025/11/feria-bienestar-animal-potes-i-arrels.webp
ORGANIZER;CN="Petjades Trobades":MAILTO:info(@)petjadestrobades.es
END:VEVENT
END:VCALENDAR