BEGIN:VCALENDAR
VERSION:2.0
PRODID:-//Potes i Arrels - ECPv6.15.17.1//NONSGML v1.0//EN
CALSCALE:GREGORIAN
METHOD:PUBLISH
X-ORIGINAL-URL:https://potesiarrels.es
X-WR-CALDESC:Eventos para Potes i Arrels
REFRESH-INTERVAL;VALUE=DURATION:PT1H
X-Robots-Tag:noindex
X-PUBLISHED-TTL:PT1H
BEGIN:VTIMEZONE
TZID:UTC
BEGIN:STANDARD
TZOFFSETFROM:+0000
TZOFFSETTO:+0000
TZNAME:UTC
DTSTART:20240101T000000
END:STANDARD
END:VTIMEZONE
BEGIN:VEVENT
DTSTART;TZID=UTC:20250927T100000
DTEND;TZID=UTC:20250927T140000
DTSTAMP:20260419T162423
CREATED:20250924T184800Z
LAST-MODIFIED:20250924T184854Z
UID:7199-1758967200-1758981600@potesiarrels.es
SUMMARY:Bigotes de Esperanza El gos Blau
DESCRIPTION:¡BIGOTES DE ESPERANZA! \nUn Día de Adopción y Abundancia para Nuestros Amigos Felinos \nDetalles del Evento: \n ¡Adopta a tu nuevo mejor amigo!\nConoce a gatitos adorables buscando un hogar lleno de amor. \n Ayúdanos a llenar pancitas:\nDona alimentos para gatos\, arena\, juguetes y mantas para refugios locales. \n Selfies Gatunos:\nDiviértete en nuestro rincón de fotos y comparte tu amor felino. \n Talleres y más sorpresas:\nActividades para toda la familia. \n¡Tu visita y generosidad hacen la diferencia! \n  \nNOTA : LAS ACTIVIDADES PUEDEN VARIAS DEPENDIENDO DISPONIBILIDAD DE LA ORGANIZACIÓN
URL:https://potesiarrels.es/event/bigotes-de-esperanza-el-gos-blau/
LOCATION:EL GOS BLAU\, Carrer la Lloma\, 11\, MURO DE ALCOY\, ALICANTE\, 03830\, Spain
ATTACH;FMTTYPE=image/webp:https://potesiarrels.es/wp-content/uploads/2025/09/Bigots-de-esperanza-el-gos-blau.webp
END:VEVENT
END:VCALENDAR