BEGIN:VCALENDAR
VERSION:2.0
PRODID:-//Potes i Arrels - ECPv6.15.17.1//NONSGML v1.0//EN
CALSCALE:GREGORIAN
METHOD:PUBLISH
X-ORIGINAL-URL:https://potesiarrels.es
X-WR-CALDESC:Eventos para Potes i Arrels
REFRESH-INTERVAL;VALUE=DURATION:PT1H
X-Robots-Tag:noindex
X-PUBLISHED-TTL:PT1H
BEGIN:VTIMEZONE
TZID:UTC
BEGIN:STANDARD
TZOFFSETFROM:+0000
TZOFFSETTO:+0000
TZNAME:UTC
DTSTART:20240101T000000
END:STANDARD
END:VTIMEZONE
BEGIN:VEVENT
DTSTART;TZID=UTC:20250906T103000
DTEND;TZID=UTC:20250906T210000
DTSTAMP:20260419T161955
CREATED:20250822T101610Z
LAST-MODIFIED:20250822T101825Z
UID:6833-1757154600-1757192400@potesiarrels.es
SUMMARY:RECOGIDA DE ALIMENTOS Y ADOPCIÓN DE GATITOS
DESCRIPTION:🐾 ¡Gran Recogida de Alimentos y Jornada de Adopción de Gatitos! 🐾\nEste fin de semana\, en la tienda Animal de Cocentaina\, el equipo de Potes i Arrels estará realizando una recogida solidaria de alimentos para nuestros peludos. Cada donación cuenta para seguir cuidando y rescatando a los animales que más lo necesitan. \nAdemás\, tendrás la oportunidad de conocer a nuestros gatitos en adopción. Ellos esperan con ilusión encontrar un hogar lleno de amor. Ven\, acarícialos\, descubre sus historias… ¡quizá encuentres a tu nuevo mejor amigo! \n💛 Tu ayuda alimenta vidas. Tu adopción salva corazones.
URL:https://potesiarrels.es/event/recogida-de-alimentos-y-adopcion-de-gatitos/
LOCATION:TIENDA ANIMAL\, Avinguda de l'Altet\, 2\,\, Cocentaina\, Alicante\, 03820\, Spain
ATTACH;FMTTYPE=image/webp:https://potesiarrels.es/wp-content/uploads/2025/08/Eventos-potes-i-arrels.webp
END:VEVENT
END:VCALENDAR